BEGIN:VCALENDAR
VERSION:2.0
PRODID:-//Tukios.com/
BEGIN:VEVENT
UID:df53ffe3-f5d8-47b0-af91-38a668eaae72@www.petersfh.com
DTSTAMP:20260423T234133Z
DTSTART:20260522T180000Z
DTEND:20260522T190000Z
SUMMARY:Memorial Service
DESCRIPTION:
URL:https://www.petersfh.com/obituaries/jane-keese
LOCATION:Crossroads Baptist Church 24142 Loop 494  Porter TX 77365
GEO:30.0970539;-95.2323773
END:VEVENT
END:VCALENDAR