BEGIN:VCALENDAR
VERSION:2.0
PRODID:-//Tukios.com/
BEGIN:VEVENT
UID:7e9bb350-8ee9-4868-adcf-f17d530e9170@www.petersfh.com
DTSTAMP:20260423T233807Z
DTSTART:20260522T170000Z
DTEND:20260522T180000Z
SUMMARY:Friends and Family Gathering
DESCRIPTION:
URL:https://www.petersfh.com/obituaries/jane-keese
LOCATION:Crossroads Baptist Church 24142 Loop 494  Porter TX 77365
GEO:30.0970539;-95.2323773
END:VEVENT
END:VCALENDAR